Workbook

Sheet І половина 
A1: Звіт
A2: про виконання навчального навантаження за 19-20 н.р.
A3: викладачами кафедри спеціальної освіти
A4: №п/п | B4: прізвище, ініціали | C4: званння, посада | D4: Ставка | E4: лекції | F4: практичні заняття | G4: лабораторні занаття | H4: рецензії | I4: контрол. роботи | J4: курсові роботи | K4: заліки | L4: іспити | M4: консультації | N4: дипломні роботи | O4: координатор | P4: самостійна робота | Q4: вступні випробування | R4: практика | S4: ДЕК | U4: Всього | V4: Підпис
A5: 1 | B5: 2 | C5: 3 | D5: 4 | E5: 5 | F5: 6 | G5: 7 | H5: 8 | I5: 9 | J5: 10 | K5: 11 | L5: 12 | M5: 13 | N5: 14 | O5: 15 | P5: 16 | Q5: 17 | R5: 18 | S5: 19 | U5: 21 | V5: 22
B6: ШТАТ
A7: 1 | B7: Савінова Н.В. | C7: вересень | D7: 1 | E7: 28 | F7: 12 | I7: 6 | J7: 22 | T7: 68 | U7: =SUM(E7:S16) -> 600
C8: жовтень | E8: 26 | F8: 30 | G8: 34 | T8: 90
C9: листопад | E9: 4 | F9: 10 | G9: 6 | I9: 14 | L9: 8 | M9: 4 | R9: 45 | T9: 91
C10: грудень | I10: 28 | J10: 22 | L10: 1 | T10: 51
C11: січень | T11: 0
C12: лютий | E12: 32 | I12: 5 | J12: 13 | M12: 4 | P12: 4 | T12: =SUM(E12:S12) -> 58
C13: березень | E13: 22 | F13: 2 | T13: =SUM(E13:S13) -> 24
C14: квітень | E14: 10 | F14: 30 | G14: 18 | R14: 15 | T14: =SUM(E14:S14) -> 73
C15: травень | E15: 10 | F15: 20 | G15: 14 | I15: 2 | R15: 33 | T15: =SUM(E15:S15) -> 79
C16: червень | I16: 5 | J16: 19 | K16: 4 | L16: 38 | T16: =SUM(E16:S16) -> 66
B17: Всього | E17: =SUM(E7:E16) -> 132 | F17: =SUM(F7:F16) -> 104 | G17: =SUM(G7:G16) -> 72 | H17: =SUM(H7:H16) -> 0 | I17: =SUM(I7:I16) -> 60 | J17: =SUM(J7:J16) -> 76 | K17: =SUM(K7:K16) -> 4 | L17: =SUM(L7:L16) -> 47 | ... S17: =SUM(S7:S16) -> 0 | T17: =SUM(E17:S17) -> 600
B18: Стельмах Н.В. | C18: вересень | D18: 1 | E18: 30 | F18: 58 | I18: 6 | T18: =SUM(E18:S18) -> 94 | U18: =SUM(E18:S27) -> 600
C19: жовтень | E19: 8 | F19: 56 | G19: 22 | I19: 31 | M19: 2 | P19: 9 | T19: =SUM(E19:S19) -> 128
C20: листопад | F20: 38 | G20: 24 | I20: 19 | L20: 6 | M20: 4 | P20: 15 | R20: 30 | T20: =SUM(E20:S20) -> 136
C21: грудень | E21: 4 | F21: 22 | G21: 4 | H21: 16 | I21: 6 | K21: 1 | M21: 2 | N21: 6 | P21: 4 | S21: 11 | T21: =SUM(E21:S21) -> 76
C22: січень | L22: 27 | M22: 4 | T22: =SUM(E22:S22) -> 31
A23: 2 | C23: лютий | E23: 4 | F23: 4 | I23: 4 | P23: 1 | T23: =SUM(E23:S23) -> 13
C24: березень | E24: 2 | F24: 6 | G24: 2 | T24: =SUM(E24:S24) -> 10
C25: квітень | E25: 4 | G25: 8 | M25: 2 | P25: 2 | R25: 5 | T25: =SUM(E25:S25) -> 21
C26: травень | E26: 2 | F26: 4 | G26: 4 | I26: 3 | K26: 2 | M26: 2 | P26: 2 | R26: 55 | T26: =SUM(E26:S26) -> 74
C27: червень | E27: 4 | F27: 1 | L27: 12 | T27: =SUM(E27:S27) -> 17
B28: Всього | E28: =SUM(E18:E27) -> 58 | F28: =SUM(F18:F27) -> 189 | G28: =SUM(G18:G27) -> 64 | H28: =SUM(H18:H27) -> 16 | I28: =SUM(I18:I27) -> 69 | J28: =SUM(J18:J27) -> 0 | K28: =SUM(K18:K27) -> 3 | L28: =SUM(L18:L27) -> 45 | ... S28: =SUM(S18:S27) -> 11 | T28: =SUM(E28:S28) -> 600
B29: Кисличенко В.А. | C29: вересень | D29: 1 | E29: 34 | F29: 36 | G29: 12 | T29: =SUM(E29:S29) -> 82
A30: 3 | C30: жовтень | E30: 32 | F30: 12 | G30: 36 | I30: 16 | J30: 2 | T30: =SUM(E30:S30) -> 98 | U30: =SUM(E29:S38) -> 600
C31: листопад | E31: 16 | F31: 20 | G31: 28 | I31: 30 | J31: 20 | T31: =SUM(E31:S31) -> 114
C32: грудень | I32: 10 | J32: 24 | P32: 6 | T32: =SUM(E32:S32) -> 40
C33: січень | T33: =SUM(E33:S33) -> 0
C34: лютий | E34: 24 | F34: 6 | G34: 8 | I34: 2 | J34: 6 | T34: =SUM(E34:S34) -> 46
C35: березень | E35: 12 | F35: 14 | G35: 16 | I35: 2 | J35: 2 | T35: =SUM(E35:S35) -> 46
C36: квітень | E36: 4 | F36: 16 | G36: 10 | I36: 8 | J36: 4 | P36: 2 | R36: 24 | T36: =SUM(E36:S36) -> 68
C37: травень | G37: 6 | I37: 14 | J37: 10 | P37: 2 | R37: 42 | T37: =SUM(E37:S37) -> 74
C38: червень | I38: 2 | J38: 20 | L38: 1 | R38: 9 | T38: =SUM(E38:S38) -> 32
B39: Всього | E39: =SUM(E29:E38) -> 122 | F39: =SUM(F29:F38) -> 104 | G39: =SUM(G29:G38) -> 116 | H39: =SUM(H29:H38) -> 0 | I39: =SUM(I29:I38) -> 84 | J39: =SUM(J29:J38) -> 88 | K39: =SUM(K29:K38) -> 0 | L39: =SUM(L29:L38) -> 1 | ... T39: =SUM(T29:T38) -> 600
C40: вересень | D40: 1 | E40: 22 | F40: 52 | G40: 12 | I40: 6 | P40: 12 | T40: =SUM(E40:S40) -> 104
...

Sheet ІІ половина
A1: Звіт
A2: про виконання навантаження другої половини дня за 19-20 н.р.
A3: викладачами кафедри спеціальної освіти
A4: №п/п | B4: прізвище, ініціали | C4: званння, посада | D4: Ставка | E4: Наукова робота | F4: Методична робота | G4: Організаційна робота | I4: Всього | J4: Підпис
A5: 1 | B5: 2 | C5: 3 | D5: 4 | E5: 5 | F5: 6 | G5: 7 | I5: 21 | J5: 22
B6: ШТАТ
A7: 1 | B7: Савінова Н.В. | C7: вересень | D7: 1 | E7: 20 | F7: 20 | G7: 42 | H7: =SUM(E7:G7) -> 82 | I7: =SUM(E7:G16) -> 920
C8: жовтень | E8: 50 | F8: 16 | G8: 0 | H8: =SUM(E8:G8) -> 66
C9: листопад | E9: 50 | F9: 10 | G9: 5 | H9: =SUM(E9:G9) -> 65
C10: грудень | E10: 65 | F10: 34 | G10: 0 | H10: =SUM(E10:G10) -> 99
C11: січень | E11: 95 | F11: 20 | G11: 33 | H11: =SUM(E11:G11) -> 148
C12: лютий | E12: 70 | F12: 22 | H12: =SUM(E12:G12) -> 92
C13: березень | E13: 104 | F13: 22 | H13: =SUM(E13:G13) -> 126
C14: квітень | E14: 55 | F14: 22 | H14: =SUM(E14:G14) -> 77
C15: травень | E15: 41 | F15: 22 | G15: 2 | H15: =SUM(E15:G15) -> 65
C16: червень | E16: 50 | F16: 22 | G16: 28 | H16: =SUM(E16:G16) -> 100
B17: Всього | E17: =SUM(E7:E16) -> 600 | F17: =SUM(F7:F16) -> 210 | G17: =SUM(G7:G16) -> 110 | H17: =SUM(H7:H16) -> 920
B18: Стельмах Н.В. | C18: вересень | D18: 1 | E18: 40 | F18: 10 | G18: 6 | H18: =SUM(E18:G18) -> 56 | I18: =SUM(E18:G27) -> 920
C19: жовтень | E19: 28 | F19: 0 | G19: 0 | H19: =SUM(E19:G19) -> 28
C20: листопад | E20: 10 | F20: 0 | G20: 10 | H20: =SUM(E20:G20) -> 20
C21: грудень | E21: 65 | F21: 0 | G21: 9 | H21: =SUM(E21:G21) -> 74
C22: січень | E22: 117 | F22: 0 | G22: 0 | H22: =SUM(E22:G22) -> 117
A23: 2 | C23: лютий | E23: 56 | F23: 64 | G23: 17 | H23: =SUM(E23:G23) -> 137
C24: березень | E24: 68 | F24: 62 | G24: 10 | H24: =SUM(E24:G24) -> 140
C25: квітень | E25: 74 | F25: 55 | H25: =SUM(E25:G25) -> 129
C26: травень | E26: 34 | F26: 41 | G26: 1 | H26: =SUM(E26:G26) -> 76
C27: червень | E27: 8 | F27: 135 | G27: 0 | H27: =SUM(E27:G27) -> 143
B28: Всього | E28: =SUM(E18:E27) -> 500 | F28: =SUM(F18:F27) -> 367 | G28: =SUM(G18:G27) -> 53 | H28: =SUM(H18:H27) -> 920
B29: Кисличенко В.А. | C29: вересень | D29: 1 | E29: 30 | F29: 24 | G29: 10 | H29: =SUM(E29:G29) -> 64 | I29: =SUM(E29:G38) -> 920
C30: жовтень | E30: 46 | F30: 9 | G30: 5 | H30: =SUM(E30:G30) -> 60
C31: листопад | E31: 8 | F31: 29 | G31: 5 | H31: =SUM(E31:G31) -> 42
C32: грудень | E32: 46 | F32: 59 | G32: 5 | H32: =SUM(E32:G32) -> 110
C33: січень | E33: 150 | H33: =SUM(E33:G33) -> 150
A34: 3 | C34: лютий | E34: 62 | F34: 25 | G34: 15 | H34: =SUM(E34:G34) -> 102
C35: березень | E35: 90 | F35: 10 | G35: 4 | H35: =SUM(E35:G35) -> 104
C36: квітень | E36: 72 | F36: 10 | G36: 2 | H36: =SUM(E36:G36) -> 84
C37: травень | E37: 6 | F37: 68 | G37: 2 | H37: =SUM(E37:G37) -> 76
C38: червень | E38: 42 | F38: 69 | G38: 17 | H38: =SUM(E38:G38) -> 128
B39: Всього | E39: =SUM(E29:E38) -> 552 | F39: =SUM(F29:F38) -> 303 | G39: =SUM(G29:G38) -> 65 | H39: =SUM(H29:H38) -> 920
B40: Білюк О.Г. | C40: вересень | D40: 1 | E40: 20 | F40: 14 | G40: 13 | H40: =SUM(E40:G40) -> 47 | I40: =SUM(E40:G49) -> 920
...

Sheet Узагальнено
A1: Звіт
A2: про виконання навантаження другої половини дня за 19-20 н.р.
A3: викладачами кафедри спеціальної освіти
A4: №п/п | B4: прізвище, ініціали | C4: званння, посада | D4: Ставка | E4: І половина дня | F4: ІІ половина дня | H4: Всього | I4: Підпис
A5: 1 | B5: 2 | C5: 3 | D5: 4 | E5: 5 | F5: 6 | H5: 21 | I5: 22
B6: ШТАТ
A7: 1 | C7: вересень | D7: 1 | E7: =VALUE('І половина '!T7) -> 68 | F7: =VALUE('ІІ половина'!H7) -> 82 | G7: =SUM(E7:F7) -> 150 | H7: =SUM(E7:F16) -> 1520
B8: Савінова Н.В. | C8: жовтень | E8: =VALUE('І половина '!T8) -> 90 | F8: =VALUE('ІІ половина'!H8) -> 66 | G8: =SUM(E8:F8) -> 156
C9: листопад | E9: =VALUE('І половина '!T9) -> 91 | F9: =VALUE('ІІ половина'!H9) -> 65 | G9: =SUM(E9:F9) -> 156
C10: грудень | E10: =VALUE('І половина '!T10) -> 51 | F10: =VALUE('ІІ половина'!H10) -> 99 | G10: =SUM(E10:F10) -> 150
C11: січень | E11: =VALUE('І половина '!T11) -> 0 | F11: =VALUE('ІІ половина'!H11) -> 148 | G11: =SUM(E11:F11) -> 148
C12: лютий | E12: =VALUE('І половина '!T12) -> 58 | F12: =VALUE('ІІ половина'!H12) -> 92 | G12: =SUM(E12:F12) -> 150
C13: березень | E13: =VALUE('І половина '!T13) -> 24 | F13: =VALUE('ІІ половина'!H13) -> 126 | G13: =SUM(E13:F13) -> 150
C14: квітень | E14: =VALUE('І половина '!T14) -> 73 | F14: =VALUE('ІІ половина'!H14) -> 77 | G14: =SUM(E14:F14) -> 150
C15: травень | E15: =VALUE('І половина '!T15) -> 79 | F15: =VALUE('ІІ половина'!H15) -> 65 | G15: =SUM(E15:F15) -> 144
C16: червень | E16: =VALUE('І половина '!T16) -> 66 | F16: =VALUE('ІІ половина'!H16) -> 100 | G16: =SUM(E16:F16) -> 166
B17: Всього | E17: =SUM(E7:E16) -> 600 | F17: =SUM(F7:F16) -> 920 | G17: =SUM(G7:G16) -> 1520
B18: Стельмах Н.В. | C18: вересень | D18: 1 | E18: =VALUE('І половина '!T18) -> 94 | F18: =VALUE('ІІ половина'!H18) -> 56 | G18: =SUM(E18:F18) -> 150 | H18: =SUM(E18:F27) -> 1520
C19: жовтень | E19: =VALUE('І половина '!T19) -> 128 | F19: =VALUE('ІІ половина'!H19) -> 28 | G19: =SUM(E19:F19) -> 156
C20: листопад | E20: =VALUE('І половина '!T20) -> 136 | F20: =VALUE('ІІ половина'!H20) -> 20 | G20: =SUM(E20:F20) -> 156
C21: грудень | E21: =VALUE('І половина '!T21) -> 76 | F21: =VALUE('ІІ половина'!H21) -> 74 | G21: =SUM(E21:F21) -> 150
C22: січень | E22: =VALUE('І половина '!T22) -> 31 | F22: =VALUE('ІІ половина'!H22) -> 117 | G22: =SUM(E22:F22) -> 148
A23: 2 | C23: лютий | E23: =VALUE('І половина '!T23) -> 13 | F23: =VALUE('ІІ половина'!H23) -> 137 | G23: =SUM(E23:F23) -> 150
C24: березень | E24: =VALUE('І половина '!T24) -> 10 | F24: =VALUE('ІІ половина'!H24) -> 140 | G24: =SUM(E24:F24) -> 150
C25: квітень | E25: =VALUE('І половина '!T25) -> 21 | F25: =VALUE('ІІ половина'!H25) -> 129 | G25: =SUM(E25:F25) -> 150
C26: травень | E26: =VALUE('І половина '!T26) -> 74 | F26: =VALUE('ІІ половина'!H26) -> 76 | G26: =SUM(E26:F26) -> 150
C27: червень | E27: =VALUE('І половина '!T27) -> 17 | F27: =VALUE('ІІ половина'!H27) -> 143 | G27: =SUM(E27:F27) -> 160
B28: Всього | E28: =SUM(E18:E27) -> 600 | F28: =SUM(F18:F27) -> 920 | G28: =SUM(G18:G27) -> 1520
C29: вересень | D29: 1 | E29: =VALUE('І половина '!T29) -> 82 | F29: =VALUE('ІІ половина'!H29) -> 64 | G29: =SUM(E29:F29) -> 146 | H29: =SUM(E29:F38) -> 1520
C30: жовтень | E30: =VALUE('І половина '!T30) -> 98 | F30: =VALUE('ІІ половина'!H30) -> 60 | G30: =SUM(E30:F30) -> 158
C31: листопад | E31: =VALUE('І половина '!T31) -> 114 | F31: =VALUE('ІІ половина'!H31) -> 42 | G31: =SUM(E31:F31) -> 156
C32: грудень | E32: =VALUE('І половина '!T32) -> 40 | F32: =VALUE('ІІ половина'!H32) -> 110 | G32: =SUM(E32:F32) -> 150
C33: січень | E33: =VALUE('І половина '!T33) -> 0 | F33: =VALUE('ІІ половина'!H33) -> 150 | G33: =SUM(E33:F33) -> 150
A34: 3 | B34: Кисличенко В.А. | C34: лютий | E34: =VALUE('І половина '!T34) -> 46 | F34: =VALUE('ІІ половина'!H34) -> 102 | G34: =SUM(E34:F34) -> 148
C35: березень | E35: =VALUE('І половина '!T35) -> 46 | F35: =VALUE('ІІ половина'!H35) -> 104 | G35: =SUM(E35:F35) -> 150
C36: квітень | E36: =VALUE('І половина '!T36) -> 68 | F36: =VALUE('ІІ половина'!H36) -> 84 | G36: =SUM(E36:F36) -> 152
C37: травень | E37: =VALUE('І половина '!T37) -> 74 | F37: =VALUE('ІІ половина'!H37) -> 76 | G37: =SUM(E37:F37) -> 150
C38: червень | E38: =VALUE('І половина '!T38) -> 32 | F38: =VALUE('ІІ половина'!H38) -> 128 | G38: =SUM(E38:F38) -> 160
B39: Всього | E39: =SUM(E29:E38) -> 600 | F39: =SUM(F29:F38) -> 920 | G39: =SUM(G29:G38) -> 1520
B40: Білюк О.Г. | C40: вересень | E40: =VALUE('І половина '!T40) -> 104 | F40: =VALUE('ІІ половина'!H40) -> 47 | G40: =SUM(E40:F40) -> 151 | H40: =SUM(E40:F49) -> 1520
...
