Workbook

Sheet І половина 
A1: Звіт
A2: про виконання навчального навантаження за 19-20 н.р.
A3: викладачами кафедри спеціальної освіти
A4: №п/п | B4: прізвище, ініціали | C4: званння, посада | D4: Ставка | E4: лекції | F4: практичні заняття | G4: лабораторні занаття | H4: рецензії | I4: контрол. роботи | J4: курсові роботи | K4: заліки | L4: іспити | M4: консультації | N4: дипломні роботи | O4: координатор | P4: самостійна робота | Q4: вступні випробування | R4: практика | S4: ДЕК | U4: Всього | V4: Підпис
A5: 1 | B5: 2 | C5: 3 | D5: 4 | E5: 5 | F5: 6 | G5: 7 | H5: 8 | I5: 9 | J5: 10 | K5: 11 | L5: 12 | M5: 13 | N5: 14 | O5: 15 | P5: 16 | Q5: 17 | R5: 18 | S5: 19 | U5: 21 | V5: 22
B6: ШТАТ
A7: 1 | B7: Савінова Н.В. | C7: вересень | D7: 1 | E7: 28 | F7: 12 | I7: 6 | J7: 22 | T7: 68 | U7: =SUM(E7:S16) -> 600
C8: жовтень | E8: 26 | F8: 30 | G8: 34 | T8: 90
C9: листопад | E9: 4 | F9: 10 | G9: 6 | I9: 14 | L9: 8 | M9: 4 | R9: 45 | T9: 91
C10: грудень | I10: 28 | J10: 22 | L10: 1 | T10: 51
C11: січень | T11: 0
C12: лютий | E12: 32 | I12: 5 | J12: 13 | M12: 4 | P12: 4 | T12: =SUM(E12:S12) -> 58
C13: березень | E13: 22 | F13: 2 | T13: =SUM(E13:S13) -> 24
C14: квітень | E14: 10 | F14: 30 | G14: 18 | R14: 15 | T14: =SUM(E14:S14) -> 73
C15: травень | E15: 10 | F15: 20 | G15: 14 | I15: 2 | R15: 33 | T15: =SUM(E15:S15) -> 79
C16: червень | I16: 5 | J16: 19 | K16: 4 | L16: 38 | T16: =SUM(E16:S16) -> 66
B17: Всього | E17: =SUM(E7:E16) -> 132 | F17: =SUM(F7:F16) -> 104 | G17: =SUM(G7:G16) -> 72 | H17: =SUM(H7:H16) -> 0 | I17: =SUM(I7:I16) -> 60 | J17: =SUM(J7:J16) -> 76 | K17: =SUM(K7:K16) -> 4 | L17: =SUM(L7:L16) -> 47 | ... S17: =SUM(S7:S16) -> 0 | T17: =SUM(E17:S17) -> 600
B18: Стельмах Н.В. | C18: вересень | D18: 1 | E18: 30 | F18: 58 | I18: 6 | T18: =SUM(E18:S18) -> 94 | U18: =SUM(E18:S27) -> 600
C19: жовтень | E19: 8 | F19: 56 | G19: 22 | I19: 31 | M19: 2 | P19: 9 | T19: =SUM(E19:S19) -> 128
C20: листопад | F20: 38 | G20: 24 | I20: 19 | L20: 6 | M20: 4 | P20: 15 | R20: 30 | T20: =SUM(E20:S20) -> 136
C21: грудень | E21: 4 | F21: 22 | G21: 4 | H21: 16 | I21: 6 | K21: 1 | M21: 2 | N21: 6 | P21: 4 | S21: 11 | T21: =SUM(E21:S21) -> 76
C22: січень | L22: 27 | M22: 4 | T22: =SUM(E22:S22) -> 31
A23: 2 | C23: лютий | E23: 4 | F23: 4 | I23: 4 | P23: 1 | T23: =SUM(E23:S23) -> 13
C24: березень | E24: 2 | F24: 6 | G24: 2 | T24: =SUM(E24:S24) -> 10
C25: квітень | E25: 4 | G25: 8 | M25: 2 | P25: 2 | R25: 5 | T25: =SUM(E25:S25) -> 21
C26: травень | E26: 2 | F26: 4 | G26: 4 | I26: 3 | K26: 2 | M26: 2 | P26: 2 | R26: 55 | T26: =SUM(E26:S26) -> 74
C27: червень | E27: 4 | F27: 1 | L27: 12 | T27: =SUM(E27:S27) -> 17
B28: Всього | E28: =SUM(E18:E27) -> 58 | F28: =SUM(F18:F27) -> 189 | G28: =SUM(G18:G27) -> 64 | H28: =SUM(H18:H27) -> 16 | I28: =SUM(I18:I27) -> 69 | J28: =SUM(J18:J27) -> 0 | K28: =SUM(K18:K27) -> 3 | L28: =SUM(L18:L27) -> 45 | ... S28: =SUM(S18:S27) -> 11 | T28: =SUM(E28:S28) -> 600
B29: Кисличенко В.А. | C29: вересень | D29: 1 | E29: 34 | F29: 36 | G29: 12 | T29: =SUM(E29:S29) -> 82
A30: 3 | C30: жовтень | E30: 32 | F30: 12 | G30: 36 | I30: 16 | J30: 2 | T30: =SUM(E30:S30) -> 98 | U30: =SUM(E29:S38) -> 600
C31: листопад | E31: 16 | F31: 20 | G31: 28 | I31: 30 | J31: 20 | T31: =SUM(E31:S31) -> 114
C32: грудень | I32: 10 | J32: 24 | P32: 6 | T32: =SUM(E32:S32) -> 40
C33: січень | T33: =SUM(E33:S33) -> 0
C34: лютий | E34: 24 | F34: 6 | G34: 8 | I34: 2 | J34: 6 | T34: =SUM(E34:S34) -> 46
C35: березень | E35: 12 | F35: 14 | G35: 16 | I35: 2 | J35: 2 | T35: =SUM(E35:S35) -> 46
C36: квітень | E36: 4 | F36: 16 | G36: 10 | I36: 8 | J36: 4 | P36: 2 | R36: 24 | T36: =SUM(E36:S36) -> 68
C37: травень | G37: 6 | I37: 14 | J37: 10 | P37: 2 | R37: 42 | T37: =SUM(E37:S37) -> 74
C38: червень | I38: 2 | J38: 20 | L38: 1 | R38: 9 | T38: =SUM(E38:S38) -> 32
B39: Всього | E39: =SUM(E29:E38) -> 122 | F39: =SUM(F29:F38) -> 104 | G39: =SUM(G29:G38) -> 116 | H39: =SUM(H29:H38) -> 0 | I39: =SUM(I29:I38) -> 84 | J39: =SUM(J29:J38) -> 88 | K39: =SUM(K29:K38) -> 0 | L39: =SUM(L29:L38) -> 1 | ... T39: =SUM(T29:T38) -> 600
C40: вересень | D40: 1 | E40: 22 | F40: 52 | G40: 12 | I40: 6 | P40: 12 | T40: =SUM(E40:S40) -> 104
C41: жовтень | E41: 24 | F41: 26 | G41: 16 | I41: 18 | P41: 4 | T41: =SUM(E41:S41) -> 88 | U41: =SUM(E40:S49) -> 600
C42: листопад | E42: 4 | F42: 6 | G42: 16 | K42: 4 | P42: 12 | T42: =SUM(E42:S42) -> 42
C43: грудень | F43: 2 | G43: 24 | L43: 4 | T43: =SUM(E43:S43) -> 30
C44: січень | L44: 4 | T44: =SUM(E44:S44) -> 4
C45: лютий | E45: 14 | F45: 42 | G45: 32 | P45: 6 | T45: =SUM(E45:S45) -> 94
B46: Білюк О.Г. | C46: березень | E46: 18 | F46: 30 | G46: 26 | I46: 8 | P46: 2 | T46: =SUM(E46:S46) -> 84
A47: 4 | C47: квітень | E47: 6 | F47: 8 | G47: 16 | I47: 46 | T47: =SUM(E47:S47) -> 76
C48: травень | G48: 10 | I48: 20 | L48: 16 | P48: 28 | T48: =SUM(E48:S48) -> 74
C49: червень | K49: 4 | T49: =SUM(E49:S49) -> 4
B50: Всього | E50: =SUM(E40:E49) -> 88 | F50: =SUM(F40:F49) -> 166 | G50: =SUM(G40:G49) -> 152 | H50: =SUM(H40:H49) -> 0 | I50: =SUM(I40:I49) -> 98 | J50: =SUM(J40:J49) -> 0 | K50: =SUM(K40:K49) -> 8 | L50: =SUM(L40:L49) -> 24 | ... T50: =SUM(T40:T49) -> 600
A51: 5 | B51: Середа І.В. | C51: вересень | D51: 1 | E51: 38 | F51: 38 | G51: 28 | T51: =SUM(E51:S51) -> 104
C52: жовтень | E52: 4 | G52: 20 | I52: 33 | T52: =SUM(E52:S52) -> 57
C53: листопад | E53: 4 | F53: 8 | G53: 22 | I53: 29 | K53: 1 | M53: 3 | P53: 9 | T53: =SUM(E53:S53) -> 76 | U53: =SUM(E51:S60) -> 600
C54: грудень | G54: 4 | I54: 7 | K54: 1 | L54: 8 | M54: 11 | P54: 24 | T54: =SUM(E54:S54) -> 55
C55: січень | L55: 8 | T55: =SUM(E55:S55) -> 8
C56: лютий | E56: 14 | F56: 18 | G56: 10 | T56: =SUM(E56:S56) -> 42
C57: березень | E57: 18 | F57: 22 | G57: 20 | I57: 19 | M57: 2 | P57: 14 | T57: =SUM(E57:S57) -> 95
C58: квітень | E58: 6 | F58: 20 | G58: 24 | I58: 28 | M58: 2 | P58: 8 | T58: =SUM(E58:S58) -> 88
C59: травень | E59: 2 | F59: 10 | G59: 14 | I59: 21 | M59: 12 | P59: 4 | T59: =SUM(E59:S59) -> 63
C60: червень | L60: 12 | T60: =SUM(E60:S60) -> 12
B61: Всього | E61: =SUM(E51:E60) -> 86 | F61: =SUM(F51:F60) -> 116 | G61: =SUM(G51:G60) -> 142 | H61: =SUM(H51:H60) -> 0 | I61: =SUM(I51:I60) -> 137 | J61: =SUM(J51:J60) -> 0 | K61: =SUM(K51:K60) -> 2 | L61: =SUM(L51:L60) -> 28 | ... T61: =SUM(T51:T60) -> 600
A62: 6 | B62: Борулько Д.М. | C62: вересень | D62: 1 | E62: 12 | F62: 16 | I62: 37 | M62: 4 | P62: 4 | T62: =SUM(E62:S62) -> 73
C63: жовтень | E63: 6 | F63: 28 | G63: 6 | P63: 1 | T63: =SUM(E63:S63) -> 41
C64: листопад | F64: 6 | G64: 18 | R64: 62 | T64: =SUM(E64:S64) -> 86 | U64: =SUM(E62:S71) -> 600
C65: грудень | G65: 22 | P65: 5 | R65: 4 | T65: =SUM(E65:S65) -> 31
C66: січень | L66: 9 | T66: =SUM(E66:S66) -> 9
C67: лютий | E67: 8 | F67: 44 | I67: 13 | P67: 20 | T67: =SUM(E67:S67) -> 85
C68: березень | E68: 10 | F68: 28 | G68: 36 | I68: 4 | P68: 5 | T68: =SUM(E68:S68) -> 83
C69: квітень | E69: 2 | G69: 36 | K69: 1 | P69: 10 | R69: 36 | T69: =SUM(E69:S69) -> 85
C70: травень | G70: 4 | I70: 14 | K70: 4 | L70: 11 | M70: 4 | R70: 25 | T70: =SUM(E70:S70) -> 62
C71: червень | L71: 12 | M71: 3 | R71: 30 | T71: =SUM(E71:S71) -> 45
B72: Всього | E72: =SUM(E62:E71) -> 38 | F72: =SUM(F62:F71) -> 122 | G72: =SUM(G62:G71) -> 122 | H72: =SUM(H62:H71) -> 0 | I72: =SUM(I62:I71) -> 68 | J72: =SUM(J62:J71) -> 0 | K72: =SUM(K62:K71) -> 5 | L72: =SUM(L62:L71) -> 32 | ... T72: =SUM(T62:T71) -> 600
A73: 7 | C73: вересень | D73: 1 | F73: 64 | G73: 4 | I73: 4 | K73: 1 | P73: 2 | T73: =SUM(E73:S73) -> 75
B74: Іванова Т.М. | C74: жовтень | F74: 58 | G74: 4 | I74: 24 | T74: =SUM(E74:S74) -> 86 | U74: =SUM(E73:S82) -> 600
C75: листопад | F75: 32 | G75: 12 | I75: 12 | M75: 10 | P75: 20 | T75: =SUM(E75:S75) -> 86
C76: грудень | F76: 2 | G76: 22 | I76: 34 | M76: 2 | P76: 8 | T76: =SUM(E76:S76) -> 68
C77: січень | L77: 27 | T77: =SUM(E77:S77) -> 27
C78: лютий | F78: 40 | P78: 4 | T78: =SUM(E78:S78) -> 44
C79: березень | F79: 38 | G79: 2 | I79: 20 | T79: =SUM(E79:S79) -> 60
C80: квітень | F80: 24 | G80: 52 | I80: 4 | T80: =SUM(E80:S80) -> 80
C81: травень | G81: 40 | P81: 20 | T81: =SUM(E81:S81) -> 60
C82: червень | G82: 6 | I82: 8 | T82: =SUM(E82:S82) -> 14
B83: Всього | E83: =SUM(E73:E82) -> 0 | F83: =SUM(F73:F82) -> 258 | G83: =SUM(G73:G82) -> 142 | H83: =SUM(H73:H82) -> 0 | I83: =SUM(I73:I82) -> 106 | J83: =SUM(J73:J82) -> 0 | K83: =SUM(K73:K82) -> 1 | L83: =SUM(L73:L82) -> 27 | ... T83: =SUM(T73:T82) -> 600
B84: Берегова М.І. | C84: вересень | D84: 1 | F84: 20 | G84: 12 | I84: 6 | M84: 2 | T84: =SUM(E84:S84) -> 40 | U84: =SUM(E84:S93) -> 600
C85: жовтень | F85: 28 | G85: 22 | I85: 4 | T85: =SUM(E85:S85) -> 54
C86: листопад | F86: 38 | G86: 30 | I86: 10 | P86: 2 | T86: =SUM(E86:S86) -> 80
C87: грудень | F87: 30 | G87: 48 | T87: =SUM(E87:S87) -> 78
C88: січень | T88: =SUM(E88:S88) -> 0
A89: 8 | C89: лютий | F89: 54 | G89: 40 | M89: 2 | P89: 8 | T89: =SUM(E89:S89) -> 104
C90: березень | F90: 30 | G90: 28 | M90: 4 | T90: =SUM(E90:S90) -> 62
C91: квітень | F91: 18 | G91: 22 | I91: 14 | M91: 2 | P91: 24 | T91: =SUM(E91:S91) -> 80
C92: травень | F92: 4 | G92: 8 | I92: 28 | L92: 8 | M92: 2 | P92: 4 | T92: =SUM(E92:S92) -> 54
C93: червень | L93: 24 | M93: 8 | P93: 16 | T93: =SUM(E93:S93) -> 48
B94: Всього | F94: =SUM(F84:F93) -> 222 | G94: =SUM(G84:G93) -> 210 | H94: =SUM(H84:H93) -> 0 | I94: =SUM(I84:I93) -> 62 | J94: =SUM(J84:J93) -> 0 | K94: =SUM(K84:K93) -> 0 | L94: =SUM(L84:L93) -> 32 | M94: =SUM(M84:M93) -> 20 | ... S94: =SUM(S84:S93) -> 0 | T94: =SUM(E94:S94) -> 600
B95: Карсканова С.В. | C95: вересень | D95: 1 | E95: 34 | F95: 54 | G95: 18 | T95: =SUM(E95:S95) -> 106 | U95: =SUM(E95:S104) -> 600
A96: 9 | C96: жовтень | E96: 16 | F96: 32 | G96: 44 | P96: 4 | T96: =SUM(E96:S96) -> 96
C97: листопад | E97: 16 | F97: 18 | G97: 16 | I97: 26 | T97: =SUM(E97:S97) -> 76
C98: грудень | E98: 4 | F98: 26 | I98: 9 | P98: 12 | T98: =SUM(E98:S98) -> 51
C99: січень | T99: =SUM(E99:S99) -> 0
C100: лютий | E100: 8 | F100: 22 | G100: 18 | T100: =SUM(E100:S100) -> 48
...

Sheet ІІ половина
A1: Звіт
A2: про виконання навантаження другої половини дня за 19-20 н.р.
A3: викладачами кафедри спеціальної освіти
A4: №п/п | B4: прізвище, ініціали | C4: званння, посада | D4: Ставка | E4: Наукова робота | F4: Методична робота | G4: Організаційна робота | I4: Всього | J4: Підпис
A5: 1 | B5: 2 | C5: 3 | D5: 4 | E5: 5 | F5: 6 | G5: 7 | I5: 21 | J5: 22
B6: ШТАТ
A7: 1 | B7: Савінова Н.В. | C7: вересень | D7: 1 | E7: 20 | F7: 20 | G7: 42 | H7: =SUM(E7:G7) -> 82 | I7: =SUM(E7:G16) -> 920
C8: жовтень | E8: 50 | F8: 16 | G8: 0 | H8: =SUM(E8:G8) -> 66
C9: листопад | E9: 50 | F9: 10 | G9: 5 | H9: =SUM(E9:G9) -> 65
C10: грудень | E10: 65 | F10: 34 | G10: 0 | H10: =SUM(E10:G10) -> 99
C11: січень | E11: 95 | F11: 20 | G11: 33 | H11: =SUM(E11:G11) -> 148
C12: лютий | E12: 70 | F12: 22 | H12: =SUM(E12:G12) -> 92
C13: березень | E13: 104 | F13: 22 | H13: =SUM(E13:G13) -> 126
C14: квітень | E14: 55 | F14: 22 | H14: =SUM(E14:G14) -> 77
C15: травень | E15: 41 | F15: 22 | G15: 2 | H15: =SUM(E15:G15) -> 65
C16: червень | E16: 50 | F16: 22 | G16: 28 | H16: =SUM(E16:G16) -> 100
B17: Всього | E17: =SUM(E7:E16) -> 600 | F17: =SUM(F7:F16) -> 210 | G17: =SUM(G7:G16) -> 110 | H17: =SUM(H7:H16) -> 920
B18: Стельмах Н.В. | C18: вересень | D18: 1 | E18: 40 | F18: 10 | G18: 6 | H18: =SUM(E18:G18) -> 56 | I18: =SUM(E18:G27) -> 920
C19: жовтень | E19: 28 | F19: 0 | G19: 0 | H19: =SUM(E19:G19) -> 28
C20: листопад | E20: 10 | F20: 0 | G20: 10 | H20: =SUM(E20:G20) -> 20
C21: грудень | E21: 65 | F21: 0 | G21: 9 | H21: =SUM(E21:G21) -> 74
C22: січень | E22: 117 | F22: 0 | G22: 0 | H22: =SUM(E22:G22) -> 117
A23: 2 | C23: лютий | E23: 56 | F23: 64 | G23: 17 | H23: =SUM(E23:G23) -> 137
C24: березень | E24: 68 | F24: 62 | G24: 10 | H24: =SUM(E24:G24) -> 140
C25: квітень | E25: 74 | F25: 55 | H25: =SUM(E25:G25) -> 129
C26: травень | E26: 34 | F26: 41 | G26: 1 | H26: =SUM(E26:G26) -> 76
C27: червень | E27: 8 | F27: 135 | G27: 0 | H27: =SUM(E27:G27) -> 143
B28: Всього | E28: =SUM(E18:E27) -> 500 | F28: =SUM(F18:F27) -> 367 | G28: =SUM(G18:G27) -> 53 | H28: =SUM(H18:H27) -> 920
B29: Кисличенко В.А. | C29: вересень | D29: 1 | E29: 30 | F29: 24 | G29: 10 | H29: =SUM(E29:G29) -> 64 | I29: =SUM(E29:G38) -> 920
C30: жовтень | E30: 46 | F30: 9 | G30: 5 | H30: =SUM(E30:G30) -> 60
C31: листопад | E31: 8 | F31: 29 | G31: 5 | H31: =SUM(E31:G31) -> 42
C32: грудень | E32: 46 | F32: 59 | G32: 5 | H32: =SUM(E32:G32) -> 110
C33: січень | E33: 150 | H33: =SUM(E33:G33) -> 150
A34: 3 | C34: лютий | E34: 62 | F34: 25 | G34: 15 | H34: =SUM(E34:G34) -> 102
C35: березень | E35: 90 | F35: 10 | G35: 4 | H35: =SUM(E35:G35) -> 104
C36: квітень | E36: 72 | F36: 10 | G36: 2 | H36: =SUM(E36:G36) -> 84
C37: травень | E37: 6 | F37: 68 | G37: 2 | H37: =SUM(E37:G37) -> 76
C38: червень | E38: 42 | F38: 69 | G38: 17 | H38: =SUM(E38:G38) -> 128
B39: Всього | E39: =SUM(E29:E38) -> 552 | F39: =SUM(F29:F38) -> 303 | G39: =SUM(G29:G38) -> 65 | H39: =SUM(H29:H38) -> 920
B40: Білюк О.Г. | C40: вересень | D40: 1 | E40: 20 | F40: 14 | G40: 13 | H40: =SUM(E40:G40) -> 47 | I40: =SUM(E40:G49) -> 920
C41: жовтень | E41: 20 | F41: 26 | G41: 22 | H41: =SUM(E41:G41) -> 68
C42: листопад | E42: 50 | F42: 50 | G42: 14 | H42: =SUM(E42:G42) -> 114
C43: грудень | E43: 55 | F43: 45 | G43: 18 | H43: =SUM(E43:G43) -> 118
C44: січень | E44: 105 | F44: 40 | H44: =SUM(E44:G44) -> 145
C45: лютий | E45: 10 | F45: 40 | G45: 6 | H45: =SUM(E45:G45) -> 56
C46: березень | E46: 44 | F46: 20 | G46: 2 | H46: =SUM(E46:G46) -> 66
A47: 4 | C47: квітень | E47: 20 | F47: 40 | G47: 14 | H47: =SUM(E47:G47) -> 74
C48: травень | E48: 34 | F48: 40 | G48: 2 | H48: =SUM(E48:G48) -> 76
C49: червень | E49: 142 | F49: 5 | G49: 9 | H49: =SUM(E49:G49) -> 156
B50: Всього | E50: =SUM(E40:E49) -> 500 | F50: =SUM(F40:F49) -> 320 | G50: =SUM(G40:G49) -> 100 | H50: =SUM(H40:H49) -> 920
B51: Середа І.В. | C51: вересень | D51: 1 | E51: 32 | F51: 10 | G51: 4 | H51: =SUM(E51:G51) -> 46 | I51: =SUM(E51:G60) -> 880
C52: жовтень | E52: 53 | F52: 40 | G52: 6 | H52: =SUM(E52:G52) -> 99
C53: листопад | E53: 50 | F53: 20 | G53: 10 | H53: =SUM(E53:G53) -> 80
C54: грудень | E54: 55 | F54: 20 | G54: 20 | H54: =SUM(E54:G54) -> 95
C55: січень | E55: 100 | H55: =SUM(E55:G55) -> 100
A56: 5 | C56: лютий | E56: 70 | F56: 26 | G56: 12 | H56: =SUM(E56:G56) -> 108
C57: березень | E57: 30 | F57: 17 | G57: 8 | H57: =SUM(E57:G57) -> 55
C58: квітень | E58: 25 | F58: 17 | G58: 20 | H58: =SUM(E58:G58) -> 62
C59: травень | E59: 41 | F59: 20 | G59: 20 | H59: =SUM(E59:G59) -> 81
C60: червень | E60: 44 | F60: 110 | H60: =SUM(E60:G60) -> 154
B61: Всього | E61: =SUM(E51:E60) -> 500 | F61: =SUM(F51:F60) -> 280 | G61: =SUM(G51:G60) -> 100 | H61: =SUM(H51:H60) -> 880
C62: вересень | D62: 1 | E62: 45 | F62: 32 | G62: 0 | H62: =SUM(E62:G62) -> 77 | I62: =SUM(E62:G71) -> 920
C63: жовтень | E63: 55 | F63: 60 | G63: 0 | H63: =SUM(E63:G63) -> 115
C64: листопад | E64: 0 | F64: 60 | G64: 10 | H64: =SUM(E64:G64) -> 70
C65: грудень | E65: 90 | F65: 19 | G65: 10 | H65: =SUM(E65:G65) -> 119
C66: січень | E66: 20 | F66: 89 | G66: 30 | H66: =SUM(E66:G66) -> 139
A67: 6 | B67: Борулько Д.М. | C67: лютий | E67: 45 | F67: 20 | H67: =SUM(E67:G67) -> 65
C68: березень | E68: 45 | F68: 20 | G68: 2 | H68: =SUM(E68:G68) -> 67
C69: квітень | E69: 45 | F69: 20 | H69: =SUM(E69:G69) -> 65
C70: травень | E70: 75 | F70: 7 | H70: =SUM(E70:G70) -> 82
C71: червень | E71: 30 | F71: 53 | G71: 38 | H71: =SUM(E71:G71) -> 121
B72: Всього | E72: =SUM(E62:E71) -> 450 | F72: =SUM(F62:F71) -> 380 | G72: =SUM(G62:G71) -> 90 | H72: =SUM(H62:H71) -> 920
C73: вересень | D73: 1 | E73: 0 | F73: 65 | G73: 10 | H73: =SUM(E73:G73) -> 75 | I73: =SUM(E73:G82) -> 920
C74: жовтень | E74: 10 | F74: 40 | G74: 20 | H74: =SUM(E74:G74) -> 70
C75: листопад | E75: 60 | F75: 0 | G75: 10 | H75: =SUM(E75:G75) -> 70
C76: грудень | E76: 30 | F76: 30 | G76: 20 | H76: =SUM(E76:G76) -> 80
C77: січень | E77: 73 | F77: 50 | G77: 0 | H77: =SUM(E77:G77) -> 123
A78: 7 | B78: Іванова Т.М. | C78: лютий | E78: 71 | F78: 15 | G78: 20 | H78: =SUM(E78:G78) -> 106
C79: березень | E79: 50 | F79: 30 | G79: 10 | H79: =SUM(E79:G79) -> 90
C80: квітень | E80: 50 | F80: 20 | H80: =SUM(E80:G80) -> 70
C81: травень | E81: 54 | F81: 10 | G81: 20 | H81: =SUM(E81:G81) -> 84
C82: червень | E82: 102 | F82: 50 | H82: =SUM(E82:G82) -> 152
B83: Всього | E83: =SUM(E73:E82) -> 500 | F83: =SUM(F73:F82) -> 310 | G83: =SUM(G73:G82) -> 110 | H83: =SUM(H73:H82) -> 920
B84: Берегова М.І. | C84: вересень | D84: 1 | E84: 90 | F84: 20 | G84: 0 | H84: =SUM(E84:G84) -> 110 | I84: =SUM(E84:G93) -> 920
C85: жовтень | E85: 48 | F85: 44 | G85: 10 | H85: =SUM(E85:G85) -> 102
C86: листопад | E86: 54 | F86: 2 | G86: 20 | H86: =SUM(E86:G86) -> 76
C87: грудень | E87: 28 | F87: 24 | G87: 20 | H87: =SUM(E87:G87) -> 72
C88: січень | E88: 108 | F88: 40 | G88: 0 | H88: =SUM(E88:G88) -> 148
A89: 8 | C89: лютий | E89: 6 | F89: 40 | H89: =SUM(E89:G89) -> 46
C90: березень | E90: 36 | F90: 52 | H90: =SUM(E90:G90) -> 88
C91: квітень | E91: 40 | F91: 30 | H91: =SUM(E91:G91) -> 70
C92: травень | E92: 84 | F92: 6 | H92: =SUM(E92:G92) -> 90
C93: червень | E93: 6 | F93: 112 | H93: =SUM(E93:G93) -> 118
B94: Всього | E94: =SUM(E84:E93) -> 500 | F94: =SUM(F84:F93) -> 370 | G94: =SUM(G84:G93) -> 50 | H94: =SUM(H84:H93) -> 920
B95: Карсканова С.В. | C95: вересень | D95: 1 | E95: 19 | F95: 20 | G95: 6 | H95: =SUM(E95:G95) -> 45 | I95: =SUM(E95:G104) -> 920
C96: жовтень | E96: 31 | F96: 19 | G96: 10 | H96: =SUM(E96:G96) -> 60
C97: листопад | E97: 29 | F97: 2 | G97: 49 | H97: =SUM(E97:G97) -> 80
C98: грудень | E98: 92 | F98: 4 | G98: 6 | H98: =SUM(E98:G98) -> 102
C99: січень | E99: 99 | F99: 45 | H99: =SUM(E99:G99) -> 144
A100: 9 | C100: лютий | E100: 12 | F100: 78 | G100: 12 | H100: =SUM(E100:G100) -> 102
...

Sheet Узагальнено
A1: Звіт
A2: про виконання навантаження другої половини дня за 19-20 н.р.
A3: викладачами кафедри спеціальної освіти
A4: №п/п | B4: прізвище, ініціали | C4: званння, посада | D4: Ставка | E4: І половина дня | F4: ІІ половина дня | H4: Всього | I4: Підпис
A5: 1 | B5: 2 | C5: 3 | D5: 4 | E5: 5 | F5: 6 | H5: 21 | I5: 22
B6: ШТАТ
A7: 1 | C7: вересень | D7: 1 | E7: =VALUE('І половина '!T7) -> 68 | F7: =VALUE('ІІ половина'!H7) -> 82 | G7: =SUM(E7:F7) -> 150 | H7: =SUM(E7:F16) -> 1520
B8: Савінова Н.В. | C8: жовтень | E8: =VALUE('І половина '!T8) -> 90 | F8: =VALUE('ІІ половина'!H8) -> 66 | G8: =SUM(E8:F8) -> 156
C9: листопад | E9: =VALUE('І половина '!T9) -> 91 | F9: =VALUE('ІІ половина'!H9) -> 65 | G9: =SUM(E9:F9) -> 156
C10: грудень | E10: =VALUE('І половина '!T10) -> 51 | F10: =VALUE('ІІ половина'!H10) -> 99 | G10: =SUM(E10:F10) -> 150
C11: січень | E11: =VALUE('І половина '!T11) -> 0 | F11: =VALUE('ІІ половина'!H11) -> 148 | G11: =SUM(E11:F11) -> 148
C12: лютий | E12: =VALUE('І половина '!T12) -> 58 | F12: =VALUE('ІІ половина'!H12) -> 92 | G12: =SUM(E12:F12) -> 150
C13: березень | E13: =VALUE('І половина '!T13) -> 24 | F13: =VALUE('ІІ половина'!H13) -> 126 | G13: =SUM(E13:F13) -> 150
C14: квітень | E14: =VALUE('І половина '!T14) -> 73 | F14: =VALUE('ІІ половина'!H14) -> 77 | G14: =SUM(E14:F14) -> 150
C15: травень | E15: =VALUE('І половина '!T15) -> 79 | F15: =VALUE('ІІ половина'!H15) -> 65 | G15: =SUM(E15:F15) -> 144
C16: червень | E16: =VALUE('І половина '!T16) -> 66 | F16: =VALUE('ІІ половина'!H16) -> 100 | G16: =SUM(E16:F16) -> 166
B17: Всього | E17: =SUM(E7:E16) -> 600 | F17: =SUM(F7:F16) -> 920 | G17: =SUM(G7:G16) -> 1520
B18: Стельмах Н.В. | C18: вересень | D18: 1 | E18: =VALUE('І половина '!T18) -> 94 | F18: =VALUE('ІІ половина'!H18) -> 56 | G18: =SUM(E18:F18) -> 150 | H18: =SUM(E18:F27) -> 1520
C19: жовтень | E19: =VALUE('І половина '!T19) -> 128 | F19: =VALUE('ІІ половина'!H19) -> 28 | G19: =SUM(E19:F19) -> 156
C20: листопад | E20: =VALUE('І половина '!T20) -> 136 | F20: =VALUE('ІІ половина'!H20) -> 20 | G20: =SUM(E20:F20) -> 156
C21: грудень | E21: =VALUE('І половина '!T21) -> 76 | F21: =VALUE('ІІ половина'!H21) -> 74 | G21: =SUM(E21:F21) -> 150
C22: січень | E22: =VALUE('І половина '!T22) -> 31 | F22: =VALUE('ІІ половина'!H22) -> 117 | G22: =SUM(E22:F22) -> 148
A23: 2 | C23: лютий | E23: =VALUE('І половина '!T23) -> 13 | F23: =VALUE('ІІ половина'!H23) -> 137 | G23: =SUM(E23:F23) -> 150
C24: березень | E24: =VALUE('І половина '!T24) -> 10 | F24: =VALUE('ІІ половина'!H24) -> 140 | G24: =SUM(E24:F24) -> 150
C25: квітень | E25: =VALUE('І половина '!T25) -> 21 | F25: =VALUE('ІІ половина'!H25) -> 129 | G25: =SUM(E25:F25) -> 150
C26: травень | E26: =VALUE('І половина '!T26) -> 74 | F26: =VALUE('ІІ половина'!H26) -> 76 | G26: =SUM(E26:F26) -> 150
C27: червень | E27: =VALUE('І половина '!T27) -> 17 | F27: =VALUE('ІІ половина'!H27) -> 143 | G27: =SUM(E27:F27) -> 160
B28: Всього | E28: =SUM(E18:E27) -> 600 | F28: =SUM(F18:F27) -> 920 | G28: =SUM(G18:G27) -> 1520
C29: вересень | D29: 1 | E29: =VALUE('І половина '!T29) -> 82 | F29: =VALUE('ІІ половина'!H29) -> 64 | G29: =SUM(E29:F29) -> 146 | H29: =SUM(E29:F38) -> 1520
C30: жовтень | E30: =VALUE('І половина '!T30) -> 98 | F30: =VALUE('ІІ половина'!H30) -> 60 | G30: =SUM(E30:F30) -> 158
C31: листопад | E31: =VALUE('І половина '!T31) -> 114 | F31: =VALUE('ІІ половина'!H31) -> 42 | G31: =SUM(E31:F31) -> 156
C32: грудень | E32: =VALUE('І половина '!T32) -> 40 | F32: =VALUE('ІІ половина'!H32) -> 110 | G32: =SUM(E32:F32) -> 150
C33: січень | E33: =VALUE('І половина '!T33) -> 0 | F33: =VALUE('ІІ половина'!H33) -> 150 | G33: =SUM(E33:F33) -> 150
A34: 3 | B34: Кисличенко В.А. | C34: лютий | E34: =VALUE('І половина '!T34) -> 46 | F34: =VALUE('ІІ половина'!H34) -> 102 | G34: =SUM(E34:F34) -> 148
C35: березень | E35: =VALUE('І половина '!T35) -> 46 | F35: =VALUE('ІІ половина'!H35) -> 104 | G35: =SUM(E35:F35) -> 150
C36: квітень | E36: =VALUE('І половина '!T36) -> 68 | F36: =VALUE('ІІ половина'!H36) -> 84 | G36: =SUM(E36:F36) -> 152
C37: травень | E37: =VALUE('І половина '!T37) -> 74 | F37: =VALUE('ІІ половина'!H37) -> 76 | G37: =SUM(E37:F37) -> 150
C38: червень | E38: =VALUE('І половина '!T38) -> 32 | F38: =VALUE('ІІ половина'!H38) -> 128 | G38: =SUM(E38:F38) -> 160
B39: Всього | E39: =SUM(E29:E38) -> 600 | F39: =SUM(F29:F38) -> 920 | G39: =SUM(G29:G38) -> 1520
B40: Білюк О.Г. | C40: вересень | E40: =VALUE('І половина '!T40) -> 104 | F40: =VALUE('ІІ половина'!H40) -> 47 | G40: =SUM(E40:F40) -> 151 | H40: =SUM(E40:F49) -> 1520
C41: жовтень | E41: =VALUE('І половина '!T41) -> 88 | F41: =VALUE('ІІ половина'!H41) -> 68 | G41: =SUM(E41:F41) -> 156
C42: листопад | E42: =VALUE('І половина '!T42) -> 42 | F42: =VALUE('ІІ половина'!H42) -> 114 | G42: =SUM(E42:F42) -> 156
C43: грудень | E43: =VALUE('І половина '!T43) -> 30 | F43: =VALUE('ІІ половина'!H43) -> 118 | G43: =SUM(E43:F43) -> 148
C44: січень | E44: =VALUE('І половина '!T44) -> 4 | F44: =VALUE('ІІ половина'!H44) -> 145 | G44: =SUM(E44:F44) -> 149
C45: лютий | E45: =VALUE('І половина '!T45) -> 94 | F45: =VALUE('ІІ половина'!H45) -> 56 | G45: =SUM(E45:F45) -> 150
C46: березень | D46: 1 | E46: =VALUE('І половина '!T46) -> 84 | F46: =VALUE('ІІ половина'!H46) -> 66 | G46: =SUM(E46:F46) -> 150
A47: 4 | C47: квітень | E47: =VALUE('І половина '!T47) -> 76 | F47: =VALUE('ІІ половина'!H47) -> 74 | G47: =SUM(E47:F47) -> 150
C48: травень | E48: =VALUE('І половина '!T48) -> 74 | F48: =VALUE('ІІ половина'!H48) -> 76 | G48: =SUM(E48:F48) -> 150
C49: червень | E49: =VALUE('І половина '!T49) -> 4 | F49: =VALUE('ІІ половина'!H49) -> 156 | G49: =SUM(E49:F49) -> 160
B50: Всього | E50: =SUM(E40:E49) -> 600 | F50: =SUM(F40:F49) -> 920 | G50: =SUM(G40:G49) -> 1520
B51: Середа І.В. | C51: вересень | D51: 1 | E51: =VALUE('І половина '!T51) -> 104 | F51: =VALUE('ІІ половина'!H51) -> 46 | G51: =SUM(E51:F51) -> 150 | H51: =SUM(E51:F60) -> 1480
C52: жовтень | E52: =VALUE('І половина '!T52) -> 57 | F52: =VALUE('ІІ половина'!H52) -> 99 | G52: =SUM(E52:F52) -> 156
C53: листопад | E53: =VALUE('І половина '!T53) -> 76 | F53: =VALUE('ІІ половина'!H53) -> 80 | G53: =SUM(E53:F53) -> 156
C54: грудень | E54: =VALUE('І половина '!T54) -> 55 | F54: =VALUE('ІІ половина'!H54) -> 95 | G54: =SUM(E54:F54) -> 150
C55: січень | E55: =VALUE('І половина '!T55) -> 8 | F55: =VALUE('ІІ половина'!H55) -> 100 | G55: =SUM(E55:F55) -> 108
A56: 5 | C56: лютий | E56: =VALUE('І половина '!T56) -> 42 | F56: =VALUE('ІІ половина'!H56) -> 108 | G56: =SUM(E56:F56) -> 150
C57: березень | E57: =VALUE('І половина '!T57) -> 95 | F57: =VALUE('ІІ половина'!H57) -> 55 | G57: =SUM(E57:F57) -> 150
C58: квітень | E58: =VALUE('І половина '!T58) -> 88 | F58: =VALUE('ІІ половина'!H58) -> 62 | G58: =SUM(E58:F58) -> 150
C59: травень | E59: =VALUE('І половина '!T59) -> 63 | F59: =VALUE('ІІ половина'!H59) -> 81 | G59: =SUM(E59:F59) -> 144
C60: червень | E60: =VALUE('І половина '!T60) -> 12 | F60: =VALUE('ІІ половина'!H60) -> 154 | G60: =SUM(E60:F60) -> 166
B61: Всього | E61: =SUM(E51:E60) -> 600 | F61: =SUM(F51:F60) -> 880 | G61: =SUM(G51:G60) -> 1480
B62: Борулько Д.М. | C62: вересень | D62: 1 | E62: =VALUE('І половина '!T62) -> 73 | F62: =VALUE('ІІ половина'!H62) -> 77 | G62: =SUM(E62:F62) -> 150 | H62: =SUM(E62:F71) -> 1520
C63: жовтень | E63: =VALUE('І половина '!T63) -> 41 | F63: =VALUE('ІІ половина'!H63) -> 115 | G63: =SUM(E63:F63) -> 156
C64: листопад | E64: =VALUE('І половина '!T64) -> 86 | F64: =VALUE('ІІ половина'!H64) -> 70 | G64: =SUM(E64:F64) -> 156
C65: грудень | E65: =VALUE('І половина '!T65) -> 31 | F65: =VALUE('ІІ половина'!H65) -> 119 | G65: =SUM(E65:F65) -> 150
C66: січень | E66: =VALUE('І половина '!T66) -> 9 | F66: =VALUE('ІІ половина'!H66) -> 139 | G66: =SUM(E66:F66) -> 148
A67: 6 | C67: лютий | E67: =VALUE('І половина '!T67) -> 85 | F67: =VALUE('ІІ половина'!H67) -> 65 | G67: =SUM(E67:F67) -> 150
C68: березень | E68: =VALUE('І половина '!T68) -> 83 | F68: =VALUE('ІІ половина'!H68) -> 67 | G68: =SUM(E68:F68) -> 150
C69: квітень | E69: =VALUE('І половина '!T69) -> 85 | F69: =VALUE('ІІ половина'!H69) -> 65 | G69: =SUM(E69:F69) -> 150
C70: травень | E70: =VALUE('І половина '!T70) -> 62 | F70: =VALUE('ІІ половина'!H70) -> 82 | G70: =SUM(E70:F70) -> 144
C71: червень | E71: =VALUE('І половина '!T71) -> 45 | F71: =VALUE('ІІ половина'!H71) -> 121 | G71: =SUM(E71:F71) -> 166
B72: Всього | E72: =SUM(E62:E71) -> 600 | F72: =SUM(F62:F71) -> 920 | G72: =SUM(G62:G71) -> 1520
B73: Іванова Т.М. | C73: вересень | D73: 1 | E73: =VALUE('І половина '!T73) -> 75 | F73: =VALUE('ІІ половина'!H73) -> 75 | G73: =SUM(E73:F73) -> 150 | H73: =SUM(E73:F82) -> 1520
C74: жовтень | E74: =VALUE('І половина '!T74) -> 86 | F74: =VALUE('ІІ половина'!H74) -> 70 | G74: =SUM(E74:F74) -> 156
C75: листопад | E75: =VALUE('І половина '!T75) -> 86 | F75: =VALUE('ІІ половина'!H75) -> 70 | G75: =SUM(E75:F75) -> 156
C76: грудень | E76: =VALUE('І половина '!T76) -> 68 | F76: =VALUE('ІІ половина'!H76) -> 80 | G76: =SUM(E76:F76) -> 148
C77: січень | E77: =VALUE('І половина '!T77) -> 27 | F77: =VALUE('ІІ половина'!H77) -> 123 | G77: =SUM(E77:F77) -> 150
A78: 7 | C78: лютий | E78: =VALUE('І половина '!T78) -> 44 | F78: =VALUE('ІІ половина'!H78) -> 106 | G78: =SUM(E78:F78) -> 150
C79: березень | E79: =VALUE('І половина '!T79) -> 60 | F79: =VALUE('ІІ половина'!H79) -> 90 | G79: =SUM(E79:F79) -> 150
C80: квітень | E80: =VALUE('І половина '!T80) -> 80 | F80: =VALUE('ІІ половина'!H80) -> 70 | G80: =SUM(E80:F80) -> 150
C81: травень | E81: =VALUE('І половина '!T81) -> 60 | F81: =VALUE('ІІ половина'!H81) -> 84 | G81: =SUM(E81:F81) -> 144
C82: червень | E82: =VALUE('І половина '!T82) -> 14 | F82: =VALUE('ІІ половина'!H82) -> 152 | G82: =SUM(E82:F82) -> 166
B83: Всього | E83: =SUM(E73:E82) -> 600 | F83: =SUM(F73:F82) -> 920 | G83: =SUM(G73:G82) -> 1520
B84: Берегова М.І. | C84: вересень | D84: 1 | E84: =VALUE('І половина '!T84) -> 40 | F84: =VALUE('ІІ половина'!H84) -> 110 | G84: =SUM(E84:F84) -> 150 | H84: =SUM(E84:F93) -> 1520
C85: жовтень | E85: =VALUE('І половина '!T85) -> 54 | F85: =VALUE('ІІ половина'!H85) -> 102 | G85: =SUM(E85:F85) -> 156
C86: листопад | E86: =VALUE('І половина '!T86) -> 80 | F86: =VALUE('ІІ половина'!H86) -> 76 | G86: =SUM(E86:F86) -> 156
C87: грудень | E87: =VALUE('І половина '!T87) -> 78 | F87: =VALUE('ІІ половина'!H87) -> 72 | G87: =SUM(E87:F87) -> 150
C88: січень | E88: =VALUE('І половина '!T88) -> 0 | F88: =VALUE('ІІ половина'!H88) -> 148 | G88: =SUM(E88:F88) -> 148
A89: 8 | C89: лютий | E89: =VALUE('І половина '!T89) -> 104 | F89: =VALUE('ІІ половина'!H89) -> 46 | G89: =SUM(E89:F89) -> 150
C90: березень | E90: =VALUE('І половина '!T90) -> 62 | F90: =VALUE('ІІ половина'!H90) -> 88 | G90: =SUM(E90:F90) -> 150
C91: квітень | E91: =VALUE('І половина '!T91) -> 80 | F91: =VALUE('ІІ половина'!H91) -> 70 | G91: =SUM(E91:F91) -> 150
C92: травень | E92: =VALUE('І половина '!T92) -> 54 | F92: =VALUE('ІІ половина'!H92) -> 90 | G92: =SUM(E92:F92) -> 144
C93: червень | E93: =VALUE('І половина '!T93) -> 48 | F93: =VALUE('ІІ половина'!H93) -> 118 | G93: =SUM(E93:F93) -> 166
B94: Всього | E94: =SUM(E84:E93) -> 600 | F94: =SUM(F84:F93) -> 920 | G94: =SUM(G84:G93) -> 1520
C95: вересень | D95: 1 | E95: =VALUE('І половина '!T95) -> 106 | F95: =VALUE('ІІ половина'!H95) -> 45 | G95: =SUM(E95:F95) -> 151 | H95: =SUM(E95:F104) -> 1520
C96: жовтень | E96: =VALUE('І половина '!T96) -> 96 | F96: =VALUE('ІІ половина'!H96) -> 60 | G96: =SUM(E96:F96) -> 156
C97: листопад | E97: =VALUE('І половина '!T97) -> 76 | F97: =VALUE('ІІ половина'!H97) -> 80 | G97: =SUM(E97:F97) -> 156
C98: грудень | E98: =VALUE('І половина '!T98) -> 51 | F98: =VALUE('ІІ половина'!H98) -> 102 | G98: =SUM(E98:F98) -> 153
C99: січень | E99: =VALUE('І половина '!T99) -> 0 | F99: =VALUE('ІІ половина'!H99) -> 144 | G99: =SUM(E99:F99) -> 144
A100: 9 | B100: Карсканова С.В. | C100: лютий | E100: =VALUE('І половина '!T100) -> 48 | F100: =VALUE('ІІ половина'!H100) -> 102 | G100: =SUM(E100:F100) -> 150
...
